View In:
ArcGIS JavaScript
ArcGIS Online Map Viewer
ArcGIS Earth
ArcMap
View Footprint In:
ArcGIS Online Map Viewer
Service Description: New 3mDEM from 2024
Name: NewImagery/DEM3m2024WM
Description: New 3mDEM from 2024
Single Fused Map Cache: false
Extent:
XMin: -1.1206222676888863E7
YMin: 5629471.569339791
XMax: -1.0420282676888863E7
YMax: 6306727.569339791
Spatial Reference: 102100
(3857)
Initial Extent:
XMin: -1.1206222676888863E7
YMin: 5629471.569339791
XMax: -1.0420282676888863E7
YMax: 6306727.569339791
Spatial Reference: 102100
(3857)
Full Extent:
XMin: -1.1206222676888863E7
YMin: 5629471.569339791
XMax: -1.0420282676888863E7
YMax: 6306727.569339791
Spatial Reference: 102100
(3857)
Pixel Size X: 3.0
Pixel Size Y: 3.0
Band Count: 1
Pixel Type: F32
RasterFunction Infos: {"rasterFunctionInfos": [{
"name": "None",
"description": "",
"help": ""
}]}
Mensuration Capabilities: Basic
Has Histograms: true
Has Colormap: false
Has Multi Dimensions : false
Rendering Rule:
Min Scale: 0
Max Scale: 0
Copyright Text:
Service Data Type: esriImageServiceDataTypeGeneric
Min Values: 218.7438507080078
Max Values: 734.941162109375
Mean Values: 375.5416196228548
Standard Deviation Values: 79.91946695268528
Object ID Field:
Fields:
None
Default Mosaic Method: Center
Allowed Mosaic Methods:
SortField:
SortValue: null
Mosaic Operator: First
Default Compression Quality: 75
Default Resampling Method: Bilinear
Max Record Count: null
Max Image Height: 4100
Max Image Width: 15000
Max Download Image Count: null
Max Mosaic Image Count: null
Allow Raster Function: true
Allow Copy: null
Allow Analysis: null
Allow Compute TiePoints: false
Supports Statistics: false
Supports Advanced Queries: false
Use StandardizedQueries: true
Raster Type Infos:
Name: Raster Dataset
Description: Supports all ArcGIS Raster Datasets
Help:
Has Raster Attribute Table: false
Edit Fields Info: null
Ownership Based AccessControl For Rasters: null
Child Resources:
Info
Histograms
Key Properties
Legend
Raster Function Infos
Supported Operations:
Export Image
Identify
Measure
Compute Histograms
Compute Statistics Histograms
Get Samples
Compute Class Statistics
Query Boundary
Compute Pixel Location
Validate
Project